BEGIN:VCALENDAR
VERSION:2.0
PRODID:-//FundArt - ECPv5.12.2//NONSGML v1.0//EN
CALSCALE:GREGORIAN
METHOD:PUBLISH
X-WR-CALNAME:FundArt
X-ORIGINAL-URL:https://fundart.com.br
X-WR-CALDESC:Eventos para FundArt
BEGIN:VTIMEZONE
TZID:America/Sao_Paulo
BEGIN:STANDARD
TZOFFSETFROM:-0200
TZOFFSETTO:-0300
TZNAME:-03
DTSTART:20190217T020000
END:STANDARD
END:VTIMEZONE
BEGIN:VEVENT
DTSTART;TZID=America/Sao_Paulo:20191026T100000
DTEND;TZID=America/Sao_Paulo:20191026T160000
DTSTAMP:20260421T185859
CREATED:20191003T142620Z
LAST-MODIFIED:20191003T142620Z
UID:29187-1572084000-1572105600@fundart.com.br
SUMMARY:Visita guiada no Centro Histórico de Ubatuba
DESCRIPTION:Jornada do Patrimônio Cultural SP 2019 \nRealização: Governo do Estado de São Paulo\, por meio da Secretaria de Cultura e Economia Criativa e Prefeitura Municipal de Ubatuba. \nExecução: Secretaria Municipal de Turismo e FundArt. \nDas 10h às 12h e das 14h às 16h. \nVisitas guiadas com duração de 90 minutos com grupos de até 20 pessoas\, conforme ordem de chegada (necessária inscrição prévia). \n\nPaço Municipal\nMarco da Paz (Tratado de Paz das Américas) – Orla da Praia do Cruzeiro/Iperoig\nPraça da Paz (Imagem de Nossa Senhora da Paz)\nSobradão do Porto – Praça Anchieta\nIlha dos Pescadores\nMuseu Histórico “Washington de Oliveira – Praça Nóbrega\nAntigo Fórum – Praça Nóbrega\nIgreja Matriz – Praça Exaltação da Santa Cruz\nPosto de Puericultura – Praça 13 de Maio\nBiblioteca Pública Municipal “Ateneu Ubatubense” – Praça 13 de Maio
URL:https://fundart.com.br/evento/visita-guiada-no-centro-historico-de-ubatuba/
CATEGORIES:Jornada do Patrimônio Cultural
END:VEVENT
END:VCALENDAR