BEGIN:VCALENDAR
VERSION:2.0
PRODID:-//FundArt - ECPv5.12.2//NONSGML v1.0//EN
CALSCALE:GREGORIAN
METHOD:PUBLISH
X-WR-CALNAME:FundArt
X-ORIGINAL-URL:https://fundart.com.br
X-WR-CALDESC:Eventos para FundArt
BEGIN:VTIMEZONE
TZID:America/Sao_Paulo
BEGIN:STANDARD
TZOFFSETFROM:-0200
TZOFFSETTO:-0300
TZNAME:-03
DTSTART:20190217T020000
END:STANDARD
END:VTIMEZONE
BEGIN:VEVENT
DTSTART;TZID=America/Sao_Paulo:20190202T190000
DTEND;TZID=America/Sao_Paulo:20190203T210000
DTSTAMP:20260422T065225
CREATED:20181228T151019Z
LAST-MODIFIED:20181228T151019Z
UID:26518-1549134000-1549227600@fundart.com.br
SUMMARY:Verão no Museu
DESCRIPTION:
URL:https://fundart.com.br/evento/verao-no-museu-4/
ATTACH;FMTTYPE=image/jpeg:https://fundart.com.br/wp-content/uploads/2018/12/Museu-final.jpg
END:VEVENT
END:VCALENDAR