BEGIN:VCALENDAR
VERSION:2.0
PRODID:-//FundArt - ECPv5.12.2//NONSGML v1.0//EN
CALSCALE:GREGORIAN
METHOD:PUBLISH
X-WR-CALNAME:FundArt
X-ORIGINAL-URL:https://fundart.com.br
X-WR-CALDESC:Eventos para FundArt
BEGIN:VTIMEZONE
TZID:America/Sao_Paulo
BEGIN:STANDARD
TZOFFSETFROM:-0200
TZOFFSETTO:-0300
TZNAME:-03
DTSTART:20190217T020000
END:STANDARD
END:VTIMEZONE
BEGIN:VEVENT
DTSTART;TZID=America/Sao_Paulo:20190309T210000
DTEND;TZID=America/Sao_Paulo:20190309T210000
DTSTAMP:20260422T053224
CREATED:20190219T130556Z
LAST-MODIFIED:20190219T130602Z
UID:27074-1552165200-1552165200@fundart.com.br
SUMMARY:Ubatuba recebe o espetáculo “Palavra de Mulher” no mês de março
DESCRIPTION:Em cartaz há 10 anos\, o espetáculo “Palavra de Mulher”\, que aborda o universo feminino a partir de canções de Chico Buarque\, acontece no dia 9 de março (sábado)\, no Teatro Municipal de Ubatuba\, às 21h.
URL:https://fundart.com.br/evento/ubatuba-recebe-o-espetaculo-palavra-de-mulher-no-mes-de-marco/
LOCATION:Teatro Municipal de Ubatuba\, Ubatuba
ATTACH;FMTTYPE=image/jpeg:https://fundart.com.br/wp-content/uploads/2019/02/espetáculo-palavra-de-mulher.jpg
END:VEVENT
END:VCALENDAR