BEGIN:VCALENDAR
VERSION:2.0
PRODID:-//FundArt - ECPv5.12.2//NONSGML v1.0//EN
CALSCALE:GREGORIAN
METHOD:PUBLISH
X-WR-CALNAME:FundArt
X-ORIGINAL-URL:https://fundart.com.br
X-WR-CALDESC:Eventos para FundArt
BEGIN:VTIMEZONE
TZID:America/Sao_Paulo
BEGIN:STANDARD
TZOFFSETFROM:-0200
TZOFFSETTO:-0300
TZNAME:-03
DTSTART:20180218T020000
END:STANDARD
BEGIN:DAYLIGHT
TZOFFSETFROM:-0300
TZOFFSETTO:-0200
TZNAME:-02
DTSTART:20181104T030000
END:DAYLIGHT
END:VTIMEZONE
BEGIN:VEVENT
DTSTART;TZID=America/Sao_Paulo:20181025T143000
DTEND;TZID=America/Sao_Paulo:20181025T143000
DTSTAMP:20260424T110407
CREATED:20180927T141939Z
LAST-MODIFIED:20180927T142040Z
UID:25870-1540477800-1540477800@fundart.com.br
SUMMARY:Teatro Municipal recebe projeto de música erudita “Voz e Piano”
DESCRIPTION:A apresentação ocorrerá no dia 25 de outubro (quinta-feira)\, em horário escolar\, 14h30\, assim viabilizando a participação dos alunos da rede municipal\, estadual e particular de Ubatuba e as aproximando da música erudita\, popularizando assim o seu estilo e linguagem.
URL:https://fundart.com.br/evento/teatro-municipal-recebe-projeto-de-musica-erudita-voz-e-piano/
LOCATION:Teatro Municipal de Ubatuba\, Ubatuba
CATEGORIES:FundArt,Música
ATTACH;FMTTYPE=image/jpeg:https://fundart.com.br/wp-content/uploads/2018/09/erudito.jpg
END:VEVENT
END:VCALENDAR