BEGIN:VCALENDAR
VERSION:2.0
PRODID:-//FundArt - ECPv5.12.2//NONSGML v1.0//EN
CALSCALE:GREGORIAN
METHOD:PUBLISH
X-WR-CALNAME:FundArt
X-ORIGINAL-URL:https://fundart.com.br
X-WR-CALDESC:Eventos para FundArt
BEGIN:VTIMEZONE
TZID:America/Sao_Paulo
BEGIN:STANDARD
TZOFFSETFROM:-0200
TZOFFSETTO:-0300
TZNAME:-03
DTSTART:20190217T020000
END:STANDARD
END:VTIMEZONE
BEGIN:VEVENT
DTSTART;TZID=America/Sao_Paulo:20190314T180000
DTEND;TZID=America/Sao_Paulo:20190314T180000
DTSTAMP:20260422T052839
CREATED:20190219T131252Z
LAST-MODIFIED:20190227T122311Z
UID:27077-1552586400-1552586400@fundart.com.br
SUMMARY:Reunião do Grupo Setorial de História e Geografia
DESCRIPTION:1ª chamada: 18h \n2ª chamada:18h15
URL:https://fundart.com.br/evento/setorial-de-historia-e-geografia/
LOCATION:Sede Administrativa da FundArt\, Praça Nóbrega\, 54 - Centro\, Ubatuba\, 11680-000
ATTACH;FMTTYPE=image/jpeg:https://fundart.com.br/wp-content/uploads/2013/05/Historia-1.jpg
END:VEVENT
END:VCALENDAR