BEGIN:VCALENDAR
VERSION:2.0
PRODID:-//FundArt - ECPv5.12.2//NONSGML v1.0//EN
CALSCALE:GREGORIAN
METHOD:PUBLISH
X-WR-CALNAME:FundArt
X-ORIGINAL-URL:https://fundart.com.br
X-WR-CALDESC:Eventos para FundArt
BEGIN:VTIMEZONE
TZID:America/Sao_Paulo
BEGIN:STANDARD
TZOFFSETFROM:-0200
TZOFFSETTO:-0300
TZNAME:-03
DTSTART:20190217T020000
END:STANDARD
END:VTIMEZONE
BEGIN:VEVENT
DTSTART;TZID=America/Sao_Paulo:20191020T180000
DTEND;TZID=America/Sao_Paulo:20191020T180000
DTSTAMP:20260421T203210
CREATED:20191003T141934Z
LAST-MODIFIED:20191003T141934Z
UID:29182-1571594400-1571594400@fundart.com.br
SUMMARY:Seringal Astral (Cia Mangará)
DESCRIPTION:4º FePET – Festival dos Pequenos Espaços Teatrais
URL:https://fundart.com.br/evento/seringal-astral-cia-mangara/
LOCATION:AMAFS\, Travessa da Folha Seca\, 187 - Folha Seca
CATEGORIES:FePET
END:VEVENT
END:VCALENDAR