BEGIN:VCALENDAR
VERSION:2.0
PRODID:-//FundArt - ECPv5.12.2//NONSGML v1.0//EN
CALSCALE:GREGORIAN
METHOD:PUBLISH
X-WR-CALNAME:FundArt
X-ORIGINAL-URL:https://fundart.com.br
X-WR-CALDESC:Eventos para FundArt
BEGIN:VTIMEZONE
TZID:America/Sao_Paulo
BEGIN:STANDARD
TZOFFSETFROM:-0300
TZOFFSETTO:-0300
TZNAME:-03
DTSTART:20220101T000000
END:STANDARD
END:VTIMEZONE
BEGIN:VEVENT
DTSTART;TZID=America/Sao_Paulo:20220308T190000
DTEND;TZID=America/Sao_Paulo:20220308T210000
DTSTAMP:20260419T235208
CREATED:20220304T152224Z
LAST-MODIFIED:20220304T152224Z
UID:34515-1646766000-1646773200@fundart.com.br
SUMMARY:Sarau Cultural em comemoração ao Dia das Mulheres
DESCRIPTION:
URL:https://fundart.com.br/evento/sarau-cultural-em-comemoracao-ao-dia-das-mulheres/
LOCATION:Online
CATEGORIES:Dia Internacional da Mulher
ATTACH;FMTTYPE=image/jpeg:https://fundart.com.br/wp-content/uploads/2022/03/WhatsApp-Image-2022-03-04-at-11.58.33.jpeg
END:VEVENT
END:VCALENDAR