BEGIN:VCALENDAR
VERSION:2.0
PRODID:-//FundArt - ECPv5.12.2//NONSGML v1.0//EN
CALSCALE:GREGORIAN
METHOD:PUBLISH
X-WR-CALNAME:FundArt
X-ORIGINAL-URL:https://fundart.com.br
X-WR-CALDESC:Eventos para FundArt
BEGIN:VTIMEZONE
TZID:America/Sao_Paulo
BEGIN:STANDARD
TZOFFSETFROM:-0300
TZOFFSETTO:-0300
TZNAME:-03
DTSTART:20220101T000000
END:STANDARD
END:VTIMEZONE
BEGIN:VEVENT
DTSTART;TZID=America/Sao_Paulo:20220325T200000
DTEND;TZID=America/Sao_Paulo:20220326T223000
DTSTAMP:20260419T235913
CREATED:20220325T151845Z
LAST-MODIFIED:20220325T151845Z
UID:34628-1648238400-1648333800@fundart.com.br
SUMMARY:Rio Lyipada - Cheiro de Mar\, Amor e Maresia (Edital de Apoio)
DESCRIPTION:
URL:https://fundart.com.br/evento/rio-lyipada-cheiro-de-mar-amor-e-maresia-edital-de-apoio/
LOCATION:Teatro Municipal Pedro Paulo Teixeira Pinto
CATEGORIES:Edital de Apoio a Eventos da Municipalidade
ATTACH;FMTTYPE=image/jpeg:https://fundart.com.br/wp-content/uploads/2022/03/imagem.jpeg-1.jpg
END:VEVENT
END:VCALENDAR