BEGIN:VCALENDAR
VERSION:2.0
PRODID:-//FundArt - ECPv5.12.2//NONSGML v1.0//EN
CALSCALE:GREGORIAN
METHOD:PUBLISH
X-WR-CALNAME:FundArt
X-ORIGINAL-URL:https://fundart.com.br
X-WR-CALDESC:Eventos para FundArt
BEGIN:VTIMEZONE
TZID:America/Sao_Paulo
BEGIN:STANDARD
TZOFFSETFROM:-0300
TZOFFSETTO:-0300
TZNAME:-03
DTSTART:20220101T000000
END:STANDARD
END:VTIMEZONE
BEGIN:VEVENT
DTSTART;TZID=America/Sao_Paulo:20221122T180000
DTEND;TZID=America/Sao_Paulo:20221122T200000
DTSTAMP:20260419T113658
CREATED:20221108T170652Z
LAST-MODIFIED:20221108T170652Z
UID:35622-1669140000-1669147200@fundart.com.br
SUMMARY:Reunião Ordinária - Setorial de Música
DESCRIPTION:
URL:https://fundart.com.br/evento/reuniao-ordinaria-setorial-de-musica/
LOCATION:Online
CATEGORIES:Grupo Setorial de Música
ATTACH;FMTTYPE=image/png:https://fundart.com.br/wp-content/uploads/2018/11/beneficios-musica-estudos-noticias.png
END:VEVENT
END:VCALENDAR