BEGIN:VCALENDAR
VERSION:2.0
PRODID:-//FundArt - ECPv5.12.2//NONSGML v1.0//EN
CALSCALE:GREGORIAN
METHOD:PUBLISH
X-WR-CALNAME:FundArt
X-ORIGINAL-URL:https://fundart.com.br
X-WR-CALDESC:Eventos para FundArt
BEGIN:VTIMEZONE
TZID:America/Sao_Paulo
BEGIN:STANDARD
TZOFFSETFROM:-0300
TZOFFSETTO:-0300
TZNAME:-03
DTSTART:20210101T000000
END:STANDARD
END:VTIMEZONE
BEGIN:VEVENT
DTSTART;TZID=America/Sao_Paulo:20211021T180000
DTEND;TZID=America/Sao_Paulo:20211021T190000
DTSTAMP:20260420T064119
CREATED:20211013T141706Z
LAST-MODIFIED:20211013T141706Z
UID:33746-1634839200-1634842800@fundart.com.br
SUMMARY:Reunião Ordinária do Setorial de Música
DESCRIPTION:
URL:https://fundart.com.br/evento/reuniao-ordinaria-do-setorial-de-musica-2/
LOCATION:Online
CATEGORIES:Grupo Setorial de Música,Grupos Setoriais,Música
ATTACH;FMTTYPE=image/jpeg:https://fundart.com.br/wp-content/uploads/2021/08/kelly-sikkema-HwU5H9Y6aL8-unsplash-scaled.jpg
END:VEVENT
END:VCALENDAR