BEGIN:VCALENDAR
VERSION:2.0
PRODID:-//FundArt - ECPv5.12.2//NONSGML v1.0//EN
CALSCALE:GREGORIAN
METHOD:PUBLISH
X-WR-CALNAME:FundArt
X-ORIGINAL-URL:https://fundart.com.br
X-WR-CALDESC:Eventos para FundArt
BEGIN:VTIMEZONE
TZID:America/Sao_Paulo
BEGIN:STANDARD
TZOFFSETFROM:-0300
TZOFFSETTO:-0300
TZNAME:-03
DTSTART:20210101T000000
END:STANDARD
END:VTIMEZONE
BEGIN:VEVENT
DTSTART;TZID=America/Sao_Paulo:20210528T180000
DTEND;TZID=America/Sao_Paulo:20210528T190000
DTSTAMP:20260420T140836
CREATED:20210430T143841Z
LAST-MODIFIED:20210430T143902Z
UID:32819-1622224800-1622228400@fundart.com.br
SUMMARY:Reunião Ordinária do Setorial de Literatura da Fundart
DESCRIPTION:
URL:https://fundart.com.br/evento/reuniao-ordinaria-do-setorial-de-literatura/
LOCATION:Online
CATEGORIES:Grupo Setorial de Literatura
ATTACH;FMTTYPE=image/jpeg:https://fundart.com.br/wp-content/uploads/2021/04/alfons-morales-YLSwjSy7stw-unsplash-scaled.jpg
END:VEVENT
END:VCALENDAR