BEGIN:VCALENDAR
VERSION:2.0
PRODID:-//FundArt - ECPv5.12.2//NONSGML v1.0//EN
CALSCALE:GREGORIAN
METHOD:PUBLISH
X-WR-CALNAME:FundArt
X-ORIGINAL-URL:https://fundart.com.br
X-WR-CALDESC:Eventos para FundArt
BEGIN:VTIMEZONE
TZID:America/Sao_Paulo
BEGIN:STANDARD
TZOFFSETFROM:-0300
TZOFFSETTO:-0300
TZNAME:-03
DTSTART:20220101T000000
END:STANDARD
END:VTIMEZONE
BEGIN:VEVENT
DTSTART;TZID=America/Sao_Paulo:20221027T180000
DTEND;TZID=America/Sao_Paulo:20221027T200000
DTSTAMP:20260419T142931
CREATED:20221007T175225Z
LAST-MODIFIED:20221007T175225Z
UID:35442-1666893600-1666900800@fundart.com.br
SUMMARY:Reunião Ordinária do Setorial de Literatura da Fundart
DESCRIPTION:
URL:https://fundart.com.br/evento/reuniao-ordinaria-do-setorial-de-literatura-da-fundart-5/
LOCATION:Online
CATEGORIES:Setorial de Literatura
ATTACH;FMTTYPE=image/jpeg:https://fundart.com.br/wp-content/uploads/2021/08/kimberly-farmer-lUaaKCUANVI-unsplash-scaled.jpg
END:VEVENT
END:VCALENDAR