BEGIN:VCALENDAR
VERSION:2.0
PRODID:-//FundArt - ECPv5.12.2//NONSGML v1.0//EN
CALSCALE:GREGORIAN
METHOD:PUBLISH
X-WR-CALNAME:FundArt
X-ORIGINAL-URL:https://fundart.com.br
X-WR-CALDESC:Eventos para FundArt
BEGIN:VTIMEZONE
TZID:America/Sao_Paulo
BEGIN:STANDARD
TZOFFSETFROM:-0300
TZOFFSETTO:-0300
TZNAME:-03
DTSTART:20210101T000000
END:STANDARD
END:VTIMEZONE
BEGIN:VEVENT
DTSTART;TZID=America/Sao_Paulo:20210827T180000
DTEND;TZID=America/Sao_Paulo:20210827T190000
DTSTAMP:20260420T111450
CREATED:20210819T174244Z
LAST-MODIFIED:20210827T152558Z
UID:33432-1630087200-1630090800@fundart.com.br
SUMMARY:Reunião Ordinária do Setorial de Literatura da Fundart
DESCRIPTION:08/21 - EDITAL DE CONVOCAÇÃO PARA REUNIÃO ORDINÁRIA DO SETORIAL DE LITERATURA DA  FUNDART\n	Fazer download deste documento \n	\n      	Este navegador não suporta exibir arquivos em PDF!
URL:https://fundart.com.br/evento/reuniao-ordinaria-do-setorial-de-literatura-da-fundart-2/
LOCATION:Online
CATEGORIES:Grupo Setorial de Literatura
ATTACH;FMTTYPE=image/jpeg:https://fundart.com.br/wp-content/uploads/2021/08/valentino-mazzariello-Ndm1hhIcwHc-unsplash-scaled.jpg
END:VEVENT
END:VCALENDAR