BEGIN:VCALENDAR
VERSION:2.0
PRODID:-//FundArt - ECPv5.12.2//NONSGML v1.0//EN
CALSCALE:GREGORIAN
METHOD:PUBLISH
X-WR-CALNAME:FundArt
X-ORIGINAL-URL:https://fundart.com.br
X-WR-CALDESC:Eventos para FundArt
BEGIN:VTIMEZONE
TZID:America/Sao_Paulo
BEGIN:STANDARD
TZOFFSETFROM:-0300
TZOFFSETTO:-0300
TZNAME:-03
DTSTART:20220101T000000
END:STANDARD
END:VTIMEZONE
BEGIN:VEVENT
DTSTART;TZID=America/Sao_Paulo:20220308T180000
DTEND;TZID=America/Sao_Paulo:20220308T190000
DTSTAMP:20260420T011458
CREATED:20220303T165156Z
LAST-MODIFIED:20220303T165156Z
UID:34490-1646762400-1646766000@fundart.com.br
SUMMARY:Reunião Ordinária do Setorial de História e Geografia
DESCRIPTION:
URL:https://fundart.com.br/evento/reuniao-ordinaria-do-setorial-de-historia-e-geografia/
LOCATION:Sede Administrativa da FundArt\, Praça Nóbrega\, 54 - Centro\, Ubatuba\, 11680-000
CATEGORIES:Grupo Setorial de História e Geografia
ATTACH;FMTTYPE=image/jpeg:https://fundart.com.br/wp-content/uploads/2013/05/Historia-22.jpg
END:VEVENT
END:VCALENDAR