BEGIN:VCALENDAR
VERSION:2.0
PRODID:-//FundArt - ECPv5.12.2//NONSGML v1.0//EN
CALSCALE:GREGORIAN
METHOD:PUBLISH
X-WR-CALNAME:FundArt
X-ORIGINAL-URL:https://fundart.com.br
X-WR-CALDESC:Eventos para FundArt
BEGIN:VTIMEZONE
TZID:America/Sao_Paulo
BEGIN:STANDARD
TZOFFSETFROM:-0300
TZOFFSETTO:-0300
TZNAME:-03
DTSTART:20210101T000000
END:STANDARD
END:VTIMEZONE
BEGIN:VEVENT
DTSTART;TZID=America/Sao_Paulo:20210928T180000
DTEND;TZID=America/Sao_Paulo:20210928T190000
DTSTAMP:20260420T064349
CREATED:20210902T154849Z
LAST-MODIFIED:20210927T182505Z
UID:33576-1632852000-1632855600@fundart.com.br
SUMMARY:Reunião Ordinária do Setorial de História e Geografia da Fundart
DESCRIPTION:09/21 - EDITAL DE CONVOCAÇÃO PARA REUNIÃO ORDINÁRIA DO SETORIAL DE HISTÓRIA E GEOGRAFIA DA FUNDART\n	Fazer download deste documento \n	\n      	Este navegador não suporta exibir arquivos em PDF!
URL:https://fundart.com.br/evento/reuniao-ordinaria-do-setorial-de-historia-e-geografia-da-fundart-3/
LOCATION:Online
CATEGORIES:Grupo Setorial de História e Geografia
ATTACH;FMTTYPE=image/jpeg:https://fundart.com.br/wp-content/uploads/2014/06/historia-4.jpg
END:VEVENT
END:VCALENDAR