BEGIN:VCALENDAR
VERSION:2.0
PRODID:-//FundArt - ECPv5.12.2//NONSGML v1.0//EN
CALSCALE:GREGORIAN
METHOD:PUBLISH
X-WR-CALNAME:FundArt
X-ORIGINAL-URL:https://fundart.com.br
X-WR-CALDESC:Eventos para FundArt
BEGIN:VTIMEZONE
TZID:America/Sao_Paulo
BEGIN:STANDARD
TZOFFSETFROM:-0300
TZOFFSETTO:-0300
TZNAME:-03
DTSTART:20220101T000000
END:STANDARD
END:VTIMEZONE
BEGIN:VEVENT
DTSTART;TZID=America/Sao_Paulo:20220906T180000
DTEND;TZID=America/Sao_Paulo:20220906T193000
DTSTAMP:20260419T155232
CREATED:20220829T125414Z
LAST-MODIFIED:20220829T125506Z
UID:35282-1662487200-1662492600@fundart.com.br
SUMMARY:Reunião Ordinária do Setorial de Fotografia\, Cinema e Vídeo da FundArt
DESCRIPTION:
URL:https://fundart.com.br/evento/reuniao-ordinaria-do-setorial-de-fotografia-cinema-e-video-da-fundart-3/
LOCATION:Online
CATEGORIES:Grupo Setorial de Fotografia
END:VEVENT
END:VCALENDAR