BEGIN:VCALENDAR
VERSION:2.0
PRODID:-//FundArt - ECPv5.12.2//NONSGML v1.0//EN
CALSCALE:GREGORIAN
METHOD:PUBLISH
X-WR-CALNAME:FundArt
X-ORIGINAL-URL:https://fundart.com.br
X-WR-CALDESC:Eventos para FundArt
BEGIN:VTIMEZONE
TZID:America/Sao_Paulo
BEGIN:STANDARD
TZOFFSETFROM:-0300
TZOFFSETTO:-0300
TZNAME:-03
DTSTART:20210101T000000
END:STANDARD
END:VTIMEZONE
BEGIN:VEVENT
DTSTART;TZID=America/Sao_Paulo:20211025T180000
DTEND;TZID=America/Sao_Paulo:20211025T190000
DTSTAMP:20260420T064448
CREATED:20211013T141209Z
LAST-MODIFIED:20211013T141209Z
UID:33744-1635184800-1635188400@fundart.com.br
SUMMARY:Reunião Ordinária do Setorial de Folclore\, Culturas Tradicionais e Populares
DESCRIPTION:
URL:https://fundart.com.br/evento/reuniao-ordinaria-do-setorial-de-folclore-culturas-tradicionais-e-populares/
LOCATION:Online
CATEGORIES:Cultura,Cultura Tradicional,Folclore,Grupo Setorial de Folclore e Tradições Populares,Grupos Setoriais
ATTACH;FMTTYPE=image/jpeg:https://fundart.com.br/wp-content/uploads/2013/05/Folclore-Mascarados25.jpg
END:VEVENT
END:VCALENDAR