BEGIN:VCALENDAR
VERSION:2.0
PRODID:-//FundArt - ECPv5.12.2//NONSGML v1.0//EN
CALSCALE:GREGORIAN
METHOD:PUBLISH
X-WR-CALNAME:FundArt
X-ORIGINAL-URL:https://fundart.com.br
X-WR-CALDESC:Eventos para FundArt
BEGIN:VTIMEZONE
TZID:America/Sao_Paulo
BEGIN:STANDARD
TZOFFSETFROM:-0300
TZOFFSETTO:-0300
TZNAME:-03
DTSTART:20220101T000000
END:STANDARD
END:VTIMEZONE
BEGIN:VEVENT
DTSTART;TZID=America/Sao_Paulo:20220926T180000
DTEND;TZID=America/Sao_Paulo:20220926T193000
DTSTAMP:20260419T155339
CREATED:20220831T125242Z
LAST-MODIFIED:20220831T125242Z
UID:35304-1664215200-1664220600@fundart.com.br
SUMMARY:Reunião Ordinária do Setorial de Folclore\, Culturas Tradicionais e Populares da FundArt
DESCRIPTION:
URL:https://fundart.com.br/evento/reuniao-ordinaria-do-setorial-de-folclore-culturas-tradicionais-e-populares-da-fundart-5/
LOCATION:Online
ATTACH;FMTTYPE=image/jpeg:https://fundart.com.br/wp-content/uploads/2013/05/Folclore-Mascarados25.jpg
END:VEVENT
END:VCALENDAR