BEGIN:VCALENDAR
VERSION:2.0
PRODID:-//FundArt - ECPv5.12.2//NONSGML v1.0//EN
CALSCALE:GREGORIAN
METHOD:PUBLISH
X-WR-CALNAME:FundArt
X-ORIGINAL-URL:https://fundart.com.br
X-WR-CALDESC:Eventos para FundArt
BEGIN:VTIMEZONE
TZID:America/Sao_Paulo
BEGIN:STANDARD
TZOFFSETFROM:-0300
TZOFFSETTO:-0300
TZNAME:-03
DTSTART:20210101T000000
END:STANDARD
END:VTIMEZONE
BEGIN:VEVENT
DTSTART;TZID=America/Sao_Paulo:20210823T180000
DTEND;TZID=America/Sao_Paulo:20210823T190000
DTSTAMP:20260420T094754
CREATED:20210819T154555Z
LAST-MODIFIED:20210819T154555Z
UID:33425-1629741600-1629745200@fundart.com.br
SUMMARY:Reunião Ordinária do Setorial de Folclore\, Culturas Tradicionais e Populares da Fundart
DESCRIPTION:08/21 - EDITAL DE CONVOCAÇÃO PARA REUNIÃO ORDINÁRIA DO SETORIAL DE FOLCLORE\, CULTURAS TRADICIONAIS E POPULARES DA FUNDART\n	Fazer download deste documento \n	\n      	Este navegador não suporta exibir arquivos em PDF!
URL:https://fundart.com.br/evento/reuniao-ordinaria-do-setorial-de-folclore-culturas-tradicionais-e-populares-da-fundart-3/
LOCATION:Online
CATEGORIES:Grupo Setorial de Folclore e Tradições Populares
ATTACH;FMTTYPE=image/jpeg:https://fundart.com.br/wp-content/uploads/2018/08/Dia-do-folclore.jpg
END:VEVENT
END:VCALENDAR