BEGIN:VCALENDAR
VERSION:2.0
PRODID:-//FundArt - ECPv5.12.2//NONSGML v1.0//EN
CALSCALE:GREGORIAN
METHOD:PUBLISH
X-WR-CALNAME:FundArt
X-ORIGINAL-URL:https://fundart.com.br
X-WR-CALDESC:Eventos para FundArt
BEGIN:VTIMEZONE
TZID:America/Sao_Paulo
BEGIN:STANDARD
TZOFFSETFROM:-0300
TZOFFSETTO:-0300
TZNAME:-03
DTSTART:20220101T000000
END:STANDARD
END:VTIMEZONE
BEGIN:VEVENT
DTSTART;TZID=America/Sao_Paulo:20220921T180000
DTEND;TZID=America/Sao_Paulo:20220921T193000
DTSTAMP:20260419T170813
CREATED:20220831T124922Z
LAST-MODIFIED:20220831T124922Z
UID:35302-1663783200-1663788600@fundart.com.br
SUMMARY:Reunião Ordinária do Setorial de Artes Plásticas e Visuais da FundArt
DESCRIPTION:
URL:https://fundart.com.br/evento/reuniao-ordinaria-do-setorial-de-artes-plasticas-e-visuais-da-fundart-4/
LOCATION:Online
CATEGORIES:Artes Plásticas
ATTACH;FMTTYPE=image/jpeg:https://fundart.com.br/wp-content/uploads/2020/02/artes-plásticas.jpg
END:VEVENT
END:VCALENDAR