BEGIN:VCALENDAR
VERSION:2.0
PRODID:-//FundArt - ECPv5.12.2//NONSGML v1.0//EN
CALSCALE:GREGORIAN
METHOD:PUBLISH
X-WR-CALNAME:FundArt
X-ORIGINAL-URL:https://fundart.com.br
X-WR-CALDESC:Eventos para FundArt
BEGIN:VTIMEZONE
TZID:America/Sao_Paulo
BEGIN:STANDARD
TZOFFSETFROM:-0300
TZOFFSETTO:-0300
TZNAME:-03
DTSTART:20220101T000000
END:STANDARD
END:VTIMEZONE
BEGIN:VEVENT
DTSTART;TZID=America/Sao_Paulo:20221010T183000
DTEND;TZID=America/Sao_Paulo:20221010T203000
DTSTAMP:20260419T142958
CREATED:20221007T173730Z
LAST-MODIFIED:20221007T173730Z
UID:35434-1665426600-1665433800@fundart.com.br
SUMMARY:Reunião Ordinária do Setorial de Artes Cênicas\, Circo e Dança da Fundart
DESCRIPTION:
URL:https://fundart.com.br/evento/reuniao-ordinaria-do-setorial-de-artes-cenicas-circo-e-danca-da-fundart-5/
LOCATION:Online
CATEGORIES:Artes Cênicas
ATTACH;FMTTYPE=image/jpeg:https://fundart.com.br/wp-content/uploads/2017/03/mascara-teatro.jpg
END:VEVENT
END:VCALENDAR