BEGIN:VCALENDAR
VERSION:2.0
PRODID:-//FundArt - ECPv5.12.2//NONSGML v1.0//EN
CALSCALE:GREGORIAN
METHOD:PUBLISH
X-WR-CALNAME:FundArt
X-ORIGINAL-URL:https://fundart.com.br
X-WR-CALDESC:Eventos para FundArt
BEGIN:VTIMEZONE
TZID:America/Sao_Paulo
BEGIN:STANDARD
TZOFFSETFROM:-0300
TZOFFSETTO:-0300
TZNAME:-03
DTSTART:20210101T000000
END:STANDARD
END:VTIMEZONE
BEGIN:VEVENT
DTSTART;TZID=America/Sao_Paulo:20210824T183000
DTEND;TZID=America/Sao_Paulo:20210824T193000
DTSTAMP:20260420T094713
CREATED:20210819T155753Z
LAST-MODIFIED:20210823T121622Z
UID:33427-1629829800-1629833400@fundart.com.br
SUMMARY:Reunião Ordinária do Setorial de Artes Cênicas\, Circo e Dança da Fundart
DESCRIPTION:08/21 - EDITAL DE CONVOCAÇÃO PARA REUNIÃO ORDINÁRIA DO SETORIAL DE ARTES CÊNICAS\, CIRCO E DANÇA DA FUNDART\n	Fazer download deste documento \n	\n      	Este navegador não suporta exibir arquivos em PDF!
URL:https://fundart.com.br/evento/reuniao-ordinaria-do-setorial-de-artes-cenicas-circo-e-danca-da-fundart-3/
LOCATION:Online
CATEGORIES:Grupo Setorial de Artes Cênicas
ATTACH;FMTTYPE=image/jpeg:https://fundart.com.br/wp-content/uploads/2021/08/gift-habeshaw-Etxf65FaTrs-unsplash-scaled.jpg
END:VEVENT
END:VCALENDAR