BEGIN:VCALENDAR
VERSION:2.0
PRODID:-//FundArt - ECPv5.12.2//NONSGML v1.0//EN
CALSCALE:GREGORIAN
METHOD:PUBLISH
X-WR-CALNAME:FundArt
X-ORIGINAL-URL:https://fundart.com.br
X-WR-CALDESC:Eventos para FundArt
BEGIN:VTIMEZONE
TZID:America/Sao_Paulo
BEGIN:STANDARD
TZOFFSETFROM:-0300
TZOFFSETTO:-0300
TZNAME:-03
DTSTART:20210101T000000
END:STANDARD
END:VTIMEZONE
BEGIN:VEVENT
DTSTART;TZID=America/Sao_Paulo:20210427T183000
DTEND;TZID=America/Sao_Paulo:20210427T193000
DTSTAMP:20260420T141604
CREATED:20210407T144915Z
LAST-MODIFIED:20210407T145044Z
UID:32690-1619548200-1619551800@fundart.com.br
SUMMARY:Reunião Ordinária do Setorial de Artes Cênicas\, Circo e Dança da Fundart
DESCRIPTION:
URL:https://fundart.com.br/evento/reuniao-ordinaria-do-setorial-de-artes-cenicas-circo-e-danca-da-fundart-2/
LOCATION:Online
CATEGORIES:Grupo Setorial de Artes Cênicas
ATTACH;FMTTYPE=image/jpeg:https://fundart.com.br/wp-content/uploads/2021/04/RobinHoodforweb.jpg
ORGANIZER;CN="FundArt":MAILTO:contato@fundart.com
END:VEVENT
END:VCALENDAR