BEGIN:VCALENDAR
VERSION:2.0
PRODID:-//FundArt - ECPv5.12.2//NONSGML v1.0//EN
CALSCALE:GREGORIAN
METHOD:PUBLISH
X-WR-CALNAME:FundArt
X-ORIGINAL-URL:https://fundart.com.br
X-WR-CALDESC:Eventos para FundArt
BEGIN:VTIMEZONE
TZID:America/Sao_Paulo
BEGIN:STANDARD
TZOFFSETFROM:-0300
TZOFFSETTO:-0300
TZNAME:-03
DTSTART:20220101T000000
END:STANDARD
END:VTIMEZONE
BEGIN:VEVENT
DTSTART;TZID=America/Sao_Paulo:20221017T180000
DTEND;TZID=America/Sao_Paulo:20221017T200000
DTSTAMP:20260419T143034
CREATED:20221007T174420Z
LAST-MODIFIED:20221007T174420Z
UID:35438-1666029600-1666036800@fundart.com.br
SUMMARY:Reunião Ordinária do Conselho Municipal de Políticas Culturais de Ubatuba
DESCRIPTION:
URL:https://fundart.com.br/evento/reuniao-ordinaria-do-conselho-municipal-de-politicas-culturais-de-ubatuba/
LOCATION:Online
CATEGORIES:Conselho Municipal de Politica Cultural
ATTACH;FMTTYPE=image/jpeg:https://fundart.com.br/wp-content/uploads/2021/02/cmpc.jpg
END:VEVENT
END:VCALENDAR