BEGIN:VCALENDAR
VERSION:2.0
PRODID:-//FundArt - ECPv5.12.2//NONSGML v1.0//EN
CALSCALE:GREGORIAN
METHOD:PUBLISH
X-WR-CALNAME:FundArt
X-ORIGINAL-URL:https://fundart.com.br
X-WR-CALDESC:Eventos para FundArt
BEGIN:VTIMEZONE
TZID:America/Sao_Paulo
BEGIN:STANDARD
TZOFFSETFROM:-0300
TZOFFSETTO:-0300
TZNAME:-03
DTSTART:20210101T000000
END:STANDARD
END:VTIMEZONE
BEGIN:VEVENT
DTSTART;TZID=America/Sao_Paulo:20211122T180000
DTEND;TZID=America/Sao_Paulo:20211122T190000
DTSTAMP:20260420T051813
CREATED:20211108T193756Z
LAST-MODIFIED:20211122T162149Z
UID:33914-1637604000-1637607600@fundart.com.br
SUMMARY:Reunião Ordinária do Conselho Municipal de Politicas Culturais - CMPC
DESCRIPTION:
URL:https://fundart.com.br/evento/reuniao-ordinaria-do-conselho-municipal-de-politicas-culturais-cmpc/
LOCATION:Biblioteca Pública Municipal ” Ateneu Ubatubense”\, Praça 13 de Maio\, 52 - Centro\, Ubatuba
CATEGORIES:Conselho Municipal de Politica Cultural
ATTACH;FMTTYPE=image/jpeg:https://fundart.com.br/wp-content/uploads/2021/02/cmpc.jpg
END:VEVENT
END:VCALENDAR