BEGIN:VCALENDAR
VERSION:2.0
PRODID:-//FundArt - ECPv5.12.2//NONSGML v1.0//EN
CALSCALE:GREGORIAN
METHOD:PUBLISH
X-WR-CALNAME:FundArt
X-ORIGINAL-URL:https://fundart.com.br
X-WR-CALDESC:Eventos para FundArt
BEGIN:VTIMEZONE
TZID:America/Sao_Paulo
BEGIN:STANDARD
TZOFFSETFROM:-0300
TZOFFSETTO:-0300
TZNAME:-03
DTSTART:20220101T000000
END:STANDARD
END:VTIMEZONE
BEGIN:VEVENT
DTSTART;TZID=America/Sao_Paulo:20220919T180000
DTEND;TZID=America/Sao_Paulo:20220919T200000
DTSTAMP:20260419T155345
CREATED:20220831T124422Z
LAST-MODIFIED:20220831T124422Z
UID:35299-1663610400-1663617600@fundart.com.br
SUMMARY:Reunião Ordinária do Conselho Municipal de Políticas Culturais -CMPC
DESCRIPTION:
URL:https://fundart.com.br/evento/reuniao-ordinaria-do-conselho-municipal-de-politicas-culturais-cmpc-2/
LOCATION:Online
CATEGORIES:CMPC
ATTACH;FMTTYPE=image/jpeg:https://fundart.com.br/wp-content/uploads/2021/02/cmpc.jpg
END:VEVENT
END:VCALENDAR