BEGIN:VCALENDAR
VERSION:2.0
PRODID:-//FundArt - ECPv5.12.2//NONSGML v1.0//EN
CALSCALE:GREGORIAN
METHOD:PUBLISH
X-WR-CALNAME:FundArt
X-ORIGINAL-URL:https://fundart.com.br
X-WR-CALDESC:Eventos para FundArt
BEGIN:VTIMEZONE
TZID:America/Sao_Paulo
BEGIN:STANDARD
TZOFFSETFROM:-0300
TZOFFSETTO:-0300
TZNAME:-03
DTSTART:20210101T000000
END:STANDARD
END:VTIMEZONE
BEGIN:VEVENT
DTSTART;TZID=America/Sao_Paulo:20211021T150000
DTEND;TZID=America/Sao_Paulo:20211021T160000
DTSTAMP:20260420T064105
CREATED:20211013T142426Z
LAST-MODIFIED:20211013T143509Z
UID:33748-1634828400-1634832000@fundart.com.br
SUMMARY:Reunião Ordinária do Conselho Fiscal
DESCRIPTION:
URL:https://fundart.com.br/evento/reuniao-ordinaria-do-conselho-fiscal/
LOCATION:Online
CATEGORIES:Conselho Fiscal
ATTACH;FMTTYPE=image/jpeg:https://fundart.com.br/wp-content/uploads/2017/03/fundart_placa.jpg
END:VEVENT
END:VCALENDAR