BEGIN:VCALENDAR
VERSION:2.0
PRODID:-//FundArt - ECPv5.12.2//NONSGML v1.0//EN
CALSCALE:GREGORIAN
METHOD:PUBLISH
X-WR-CALNAME:FundArt
X-ORIGINAL-URL:https://fundart.com.br
X-WR-CALDESC:Eventos para FundArt
BEGIN:VTIMEZONE
TZID:America/Sao_Paulo
BEGIN:STANDARD
TZOFFSETFROM:-0300
TZOFFSETTO:-0300
TZNAME:-03
DTSTART:20220101T000000
END:STANDARD
END:VTIMEZONE
BEGIN:VEVENT
DTSTART;TZID=America/Sao_Paulo:20220428T150000
DTEND;TZID=America/Sao_Paulo:20220428T160000
DTSTAMP:20260419T211919
CREATED:20220401T155332Z
LAST-MODIFIED:20220401T155332Z
UID:34723-1651158000-1651161600@fundart.com.br
SUMMARY:Reunião Ordinária do Conselho Fiscal
DESCRIPTION:
URL:https://fundart.com.br/evento/reuniao-ordinaria-do-conselho-fiscal-2/
LOCATION:Sede Administrativa da FundArt\, Praça Nóbrega\, 54 - Centro\, Ubatuba\, 11680-000
CATEGORIES:Conselho Fiscal
ATTACH;FMTTYPE=image/jpeg:https://fundart.com.br/wp-content/uploads/2013/05/IMG_8595.jpg
END:VEVENT
END:VCALENDAR