BEGIN:VCALENDAR
VERSION:2.0
PRODID:-//FundArt - ECPv5.12.2//NONSGML v1.0//EN
CALSCALE:GREGORIAN
METHOD:PUBLISH
X-WR-CALNAME:FundArt
X-ORIGINAL-URL:https://fundart.com.br
X-WR-CALDESC:Eventos para FundArt
BEGIN:VTIMEZONE
TZID:America/Sao_Paulo
BEGIN:STANDARD
TZOFFSETFROM:-0300
TZOFFSETTO:-0300
TZNAME:-03
DTSTART:20220101T000000
END:STANDARD
END:VTIMEZONE
BEGIN:VEVENT
DTSTART;TZID=America/Sao_Paulo:20220317T180000
DTEND;TZID=America/Sao_Paulo:20220317T190000
DTSTAMP:20260420T000504
CREATED:20220303T171248Z
LAST-MODIFIED:20220303T171248Z
UID:34497-1647540000-1647543600@fundart.com.br
SUMMARY:Reunião Ordinária do Conselho Deliberativo (P.C)
DESCRIPTION:
URL:https://fundart.com.br/evento/reuniao-ordinaria-do-conselho-deliberativo-p-c/
LOCATION:Sede Administrativa da FundArt\, Praça Nóbrega\, 54 - Centro\, Ubatuba\, 11680-000
CATEGORIES:Conselho Deliberativo
ATTACH;FMTTYPE=image/jpeg:https://fundart.com.br/wp-content/uploads/2017/03/fundart_placa1.jpg
END:VEVENT
END:VCALENDAR