BEGIN:VCALENDAR
VERSION:2.0
PRODID:-//FundArt - ECPv5.12.2//NONSGML v1.0//EN
CALSCALE:GREGORIAN
METHOD:PUBLISH
X-WR-CALNAME:FundArt
X-ORIGINAL-URL:https://fundart.com.br
X-WR-CALDESC:Eventos para FundArt
BEGIN:VTIMEZONE
TZID:America/Sao_Paulo
BEGIN:STANDARD
TZOFFSETFROM:-0300
TZOFFSETTO:-0300
TZNAME:-03
DTSTART:20210101T000000
END:STANDARD
END:VTIMEZONE
BEGIN:VEVENT
DTSTART;TZID=America/Sao_Paulo:20211111T190000
DTEND;TZID=America/Sao_Paulo:20211111T200000
DTSTAMP:20260420T050539
CREATED:20211108T184307Z
LAST-MODIFIED:20211109T200814Z
UID:33910-1636657200-1636660800@fundart.com.br
SUMMARY:Reunião Ordinária do Conselho Deliberativo da Fundart
DESCRIPTION:11/21 - EDITAL DE CONVOCAÇÃO DA REUNIÃO ORDINÁRIA DO CONSELHO DELIBERATIVO DA FUNDART\n	Fazer download deste documento \n	\n      	Este navegador não suporta exibir arquivos em PDF!
URL:https://fundart.com.br/evento/reuniao-ordinaria-do-conselho-deliberativo-da-fundart-6/
LOCATION:Online
CATEGORIES:Conselho Deliberativo
ATTACH;FMTTYPE=image/jpeg:https://fundart.com.br/wp-content/uploads/2017/03/fundart_placa.jpg
END:VEVENT
END:VCALENDAR