BEGIN:VCALENDAR
VERSION:2.0
PRODID:-//FundArt - ECPv5.12.2//NONSGML v1.0//EN
CALSCALE:GREGORIAN
METHOD:PUBLISH
X-WR-CALNAME:FundArt
X-ORIGINAL-URL:https://fundart.com.br
X-WR-CALDESC:Eventos para FundArt
BEGIN:VTIMEZONE
TZID:America/Sao_Paulo
BEGIN:STANDARD
TZOFFSETFROM:-0300
TZOFFSETTO:-0300
TZNAME:-03
DTSTART:20220101T000000
END:STANDARD
END:VTIMEZONE
BEGIN:VEVENT
DTSTART;TZID=America/Sao_Paulo:20221121T180000
DTEND;TZID=America/Sao_Paulo:20221121T200000
DTSTAMP:20260419T130225
CREATED:20221108T170259Z
LAST-MODIFIED:20221108T170259Z
UID:35620-1669053600-1669060800@fundart.com.br
SUMMARY:Reunião Ordinária  - CMPC
DESCRIPTION:
URL:https://fundart.com.br/evento/reuniao-ordinaria-cmpc/
LOCATION:Online
CATEGORIES:CMPC
ATTACH;FMTTYPE=image/jpeg:https://fundart.com.br/wp-content/uploads/2021/02/cmpc.jpg
END:VEVENT
END:VCALENDAR