BEGIN:VCALENDAR
VERSION:2.0
PRODID:-//FundArt - ECPv5.12.2//NONSGML v1.0//EN
CALSCALE:GREGORIAN
METHOD:PUBLISH
X-WR-CALNAME:FundArt
X-ORIGINAL-URL:https://fundart.com.br
X-WR-CALDESC:Eventos para FundArt
BEGIN:VTIMEZONE
TZID:America/Sao_Paulo
BEGIN:STANDARD
TZOFFSETFROM:-0300
TZOFFSETTO:-0300
TZNAME:-03
DTSTART:20220101T000000
END:STANDARD
END:VTIMEZONE
BEGIN:VEVENT
DTSTART;TZID=America/Sao_Paulo:20220324T183000
DTEND;TZID=America/Sao_Paulo:20220324T193000
DTSTAMP:20260420T000250
CREATED:20220323T152917Z
LAST-MODIFIED:20220323T160702Z
UID:34618-1648146600-1648150200@fundart.com.br
SUMMARY:Reunião Extraordinária do Setorial de Literatura da Fundart
DESCRIPTION:Confira o Edital : \n  \n03/22 - EDITAL DE CONVOCAÇÃO PARA litw\n	Fazer download deste documento \n	\n      	Este navegador não suporta exibir arquivos em PDF!
URL:https://fundart.com.br/evento/reuniao-extraordinaria-do-setorial-de-literatura-da-fundart-3/
LOCATION:Online
CATEGORIES:Grupo Setorial de Literatura
ATTACH;FMTTYPE=image/jpeg:https://fundart.com.br/wp-content/uploads/2017/08/literatura.jpg
END:VEVENT
END:VCALENDAR