BEGIN:VCALENDAR
VERSION:2.0
PRODID:-//FundArt - ECPv5.12.2//NONSGML v1.0//EN
CALSCALE:GREGORIAN
METHOD:PUBLISH
X-WR-CALNAME:FundArt
X-ORIGINAL-URL:https://fundart.com.br
X-WR-CALDESC:Eventos para FundArt
BEGIN:VTIMEZONE
TZID:America/Sao_Paulo
BEGIN:STANDARD
TZOFFSETFROM:-0300
TZOFFSETTO:-0300
TZNAME:-03
DTSTART:20210101T000000
END:STANDARD
END:VTIMEZONE
BEGIN:VEVENT
DTSTART;TZID=America/Sao_Paulo:20210908T183000
DTEND;TZID=America/Sao_Paulo:20210908T193000
DTSTAMP:20260420T093352
CREATED:20210908T130434Z
LAST-MODIFIED:20210908T130727Z
UID:33605-1631125800-1631129400@fundart.com.br
SUMMARY:Reunião Extraordinária do Setorial de Fotografia\, Cinema e Vídeo da Fundart
DESCRIPTION:09/21 - EDITAL DE CONVOCAÇÃO PARA REUNIÃO EXTRAORDINÁRIA DO SETORIAL DE FOTOGRAFIA\, CINEMA E VÍDEO DA FUNDART\n	Fazer download deste documento \n	\n      	Este navegador não suporta exibir arquivos em PDF!
URL:https://fundart.com.br/evento/reuniao-extraordinaria-do-setorial-de-fotografia-cinema-e-video-da-fundart/
LOCATION:Online
CATEGORIES:Grupo Setorial de Fotografia
ATTACH;FMTTYPE=image/jpeg:https://fundart.com.br/wp-content/uploads/2021/04/christian-wiediger-gVbOF8mdE3U-unsplash-scaled.jpg
END:VEVENT
END:VCALENDAR