BEGIN:VCALENDAR
VERSION:2.0
PRODID:-//FundArt - ECPv5.12.2//NONSGML v1.0//EN
CALSCALE:GREGORIAN
METHOD:PUBLISH
X-WR-CALNAME:FundArt
X-ORIGINAL-URL:https://fundart.com.br
X-WR-CALDESC:Eventos para FundArt
BEGIN:VTIMEZONE
TZID:America/Sao_Paulo
BEGIN:STANDARD
TZOFFSETFROM:-0200
TZOFFSETTO:-0300
TZNAME:-03
DTSTART:20190217T020000
END:STANDARD
END:VTIMEZONE
BEGIN:VEVENT
DTSTART;TZID=America/Sao_Paulo:20190820T180000
DTEND;TZID=America/Sao_Paulo:20190820T180000
DTSTAMP:20260421T225830
CREATED:20190814T180359Z
LAST-MODIFIED:20190814T182152Z
UID:28733-1566324000-1566324000@fundart.com.br
SUMMARY:Reunião extraordinária do Setorial de Fotografia\, Cinema e Video
DESCRIPTION:
URL:https://fundart.com.br/evento/reuniao-extraordinaria-do-setorial-de-fotografia-cinema-e-video-2/
LOCATION:Sede Administrativa da FundArt\, Praça Nóbrega\, 54 - Centro\, Ubatuba\, 11680-000
CATEGORIES:Grupo Setorial de Fotografia
END:VEVENT
END:VCALENDAR