BEGIN:VCALENDAR
VERSION:2.0
PRODID:-//FundArt - ECPv5.12.2//NONSGML v1.0//EN
CALSCALE:GREGORIAN
METHOD:PUBLISH
X-WR-CALNAME:FundArt
X-ORIGINAL-URL:https://fundart.com.br
X-WR-CALDESC:Eventos para FundArt
BEGIN:VTIMEZONE
TZID:America/Sao_Paulo
BEGIN:STANDARD
TZOFFSETFROM:-0300
TZOFFSETTO:-0300
TZNAME:-03
DTSTART:20210101T000000
END:STANDARD
END:VTIMEZONE
BEGIN:VEVENT
DTSTART;TZID=America/Sao_Paulo:20210902T183000
DTEND;TZID=America/Sao_Paulo:20210902T193000
DTSTAMP:20260420T081238
CREATED:20210902T155255Z
LAST-MODIFIED:20210902T155736Z
UID:33578-1630607400-1630611000@fundart.com.br
SUMMARY:Reunião Extraordinária do Setorial de Artesanato da Fundart
DESCRIPTION:08/21 - EDITAL DE CONVOCAÇÃO PARA REUNIÃO EXTRAORDINÁRIA DO SETORIAL DE ARTESANATO DA FUNDART\n	Fazer download deste documento \n	\n      	Este navegador não suporta exibir arquivos em PDF!
URL:https://fundart.com.br/evento/reuniao-extraordinaria-do-setorial-de-artesanato-da-fundart-3/
LOCATION:Online
CATEGORIES:Grupo Setorial de Artesanato
ATTACH;FMTTYPE=image/jpeg:https://fundart.com.br/wp-content/uploads/2020/02/corte-e-costura2.jpg
END:VEVENT
END:VCALENDAR