BEGIN:VCALENDAR
VERSION:2.0
PRODID:-//FundArt - ECPv5.12.2//NONSGML v1.0//EN
CALSCALE:GREGORIAN
METHOD:PUBLISH
X-WR-CALNAME:FundArt
X-ORIGINAL-URL:https://fundart.com.br
X-WR-CALDESC:Eventos para FundArt
BEGIN:VTIMEZONE
TZID:America/Sao_Paulo
BEGIN:STANDARD
TZOFFSETFROM:-0200
TZOFFSETTO:-0300
TZNAME:-03
DTSTART:20190217T020000
END:STANDARD
END:VTIMEZONE
BEGIN:VEVENT
DTSTART;TZID=America/Sao_Paulo:20190902T164500
DTEND;TZID=America/Sao_Paulo:20190902T164500
DTSTAMP:20260421T201136
CREATED:20190902T135508Z
LAST-MODIFIED:20190902T135508Z
UID:28867-1567442700-1567442700@fundart.com.br
SUMMARY:Reunião Extraordinária do Setorial de Artes Cênicas\, Circo e Dança
DESCRIPTION:
URL:https://fundart.com.br/evento/reuniao-extraordinaria-do-setorial-de-artes-cenicas-circo-e-danca/
LOCATION:FundArt\, Praça Nóbrega\, 54 - centro\, Ubatuba
END:VEVENT
END:VCALENDAR