BEGIN:VCALENDAR
VERSION:2.0
PRODID:-//FundArt - ECPv5.12.2//NONSGML v1.0//EN
CALSCALE:GREGORIAN
METHOD:PUBLISH
X-WR-CALNAME:FundArt
X-ORIGINAL-URL:https://fundart.com.br
X-WR-CALDESC:Eventos para FundArt
BEGIN:VTIMEZONE
TZID:America/Sao_Paulo
BEGIN:STANDARD
TZOFFSETFROM:-0200
TZOFFSETTO:-0300
TZNAME:-03
DTSTART:20180218T020000
END:STANDARD
BEGIN:DAYLIGHT
TZOFFSETFROM:-0300
TZOFFSETTO:-0200
TZNAME:-02
DTSTART:20181104T030000
END:DAYLIGHT
END:VTIMEZONE
BEGIN:VEVENT
DTSTART;TZID=America/Sao_Paulo:20181023T180000
DTEND;TZID=America/Sao_Paulo:20181023T190000
DTSTAMP:20260424T110430
CREATED:20181016T173817Z
LAST-MODIFIED:20181016T173817Z
UID:25992-1540317600-1540321200@fundart.com.br
SUMMARY:Reunião Extraordinária do Grupo Setorial de Artes Cênicas\, Circo e Dança
DESCRIPTION:Reunião Extraordinária do Grupo Setorial de Artes Cênicas\, Circo e Dança\nData: 23 de outubro – terça-feira \nHorário: 18h \nLocal: Sede administrativa da FundArt
URL:https://fundart.com.br/evento/reuniao-extraordinaria-do-grupo-setorial-de-artes-cenicas-circo-e-danca/
LOCATION:Sede Administrativa da FundArt\, Praça Nóbrega\, 54 - Centro\, Ubatuba\, 11680-000
CATEGORIES:Grupo Setorial de Artes Cênicas
ATTACH;FMTTYPE=image/jpeg:https://fundart.com.br/wp-content/uploads/2017/06/teatr.jpg
END:VEVENT
END:VCALENDAR