BEGIN:VCALENDAR
VERSION:2.0
PRODID:-//FundArt - ECPv5.12.2//NONSGML v1.0//EN
CALSCALE:GREGORIAN
METHOD:PUBLISH
X-WR-CALNAME:FundArt
X-ORIGINAL-URL:https://fundart.com.br
X-WR-CALDESC:Eventos para FundArt
BEGIN:VTIMEZONE
TZID:America/Sao_Paulo
BEGIN:STANDARD
TZOFFSETFROM:-0300
TZOFFSETTO:-0300
TZNAME:-03
DTSTART:20210101T000000
END:STANDARD
END:VTIMEZONE
BEGIN:VEVENT
DTSTART;TZID=America/Sao_Paulo:20210726T180000
DTEND;TZID=America/Sao_Paulo:20210726T203000
DTSTAMP:20260420T094754
CREATED:20210726T193048Z
LAST-MODIFIED:20210726T193048Z
UID:33268-1627322400-1627331400@fundart.com.br
SUMMARY:Reunião Extraordinária do Conselho Municipal de Política Cultural de Ubatuba (CMPC)
DESCRIPTION:
URL:https://fundart.com.br/evento/reuniao-extraordinaria-do-conselho-municipal-de-politica-cultural-de-ubatuba-cmpc/
LOCATION:Online
CATEGORIES:Conselho Municipal de Politica Cultural
ATTACH;FMTTYPE=image/jpeg:https://fundart.com.br/wp-content/uploads/2021/02/cmpc.jpg
END:VEVENT
END:VCALENDAR