BEGIN:VCALENDAR
VERSION:2.0
PRODID:-//FundArt - ECPv5.12.2//NONSGML v1.0//EN
CALSCALE:GREGORIAN
METHOD:PUBLISH
X-WR-CALNAME:FundArt
X-ORIGINAL-URL:https://fundart.com.br
X-WR-CALDESC:Eventos para FundArt
BEGIN:VTIMEZONE
TZID:America/Sao_Paulo
BEGIN:STANDARD
TZOFFSETFROM:-0300
TZOFFSETTO:-0300
TZNAME:-03
DTSTART:20210101T000000
END:STANDARD
END:VTIMEZONE
BEGIN:VEVENT
DTSTART;TZID=America/Sao_Paulo:20210723T180000
DTEND;TZID=America/Sao_Paulo:20210723T190000
DTSTAMP:20260420T111300
CREATED:20210702T121726Z
LAST-MODIFIED:20210723T150745Z
UID:33153-1627063200-1627066800@fundart.com.br
SUMMARY:Reunião do Setorial de Literatura da Fundart
DESCRIPTION:
URL:https://fundart.com.br/evento/reuniao-do-setorial-de-literatura-da-fundart/
CATEGORIES:Grupo Setorial de Literatura
ATTACH;FMTTYPE=image/jpeg:https://fundart.com.br/wp-content/uploads/2018/07/livros-estarao-a-venda-em-feira-por-apenas-r-10.jpg
END:VEVENT
END:VCALENDAR