BEGIN:VCALENDAR
VERSION:2.0
PRODID:-//FundArt - ECPv5.12.2//NONSGML v1.0//EN
CALSCALE:GREGORIAN
METHOD:PUBLISH
X-WR-CALNAME:FundArt
X-ORIGINAL-URL:https://fundart.com.br
X-WR-CALDESC:Eventos para FundArt
BEGIN:VTIMEZONE
TZID:America/Sao_Paulo
BEGIN:STANDARD
TZOFFSETFROM:-0300
TZOFFSETTO:-0300
TZNAME:-03
DTSTART:20210101T000000
END:STANDARD
END:VTIMEZONE
BEGIN:VEVENT
DTSTART;TZID=America/Sao_Paulo:20210706T180000
DTEND;TZID=America/Sao_Paulo:20210706T190000
DTSTAMP:20260420T112121
CREATED:20210702T114607Z
LAST-MODIFIED:20210706T122738Z
UID:33139-1625594400-1625598000@fundart.com.br
SUMMARY:Reunião do Setorial de História e Geografia da Fundart
DESCRIPTION:Edital de Convocação disponível abaixo:\n\n	Fazer download deste documento \n	\n      	Este navegador não suporta exibir arquivos em PDF!
URL:https://fundart.com.br/evento/reuniao-do-setorial-de-historia-e-geografia-2/
LOCATION:Online
CATEGORIES:Grupo Setorial de História e Geografia
ATTACH;FMTTYPE=image/jpeg:https://fundart.com.br/wp-content/uploads/2013/05/Historia-11.jpg
END:VEVENT
END:VCALENDAR