BEGIN:VCALENDAR
VERSION:2.0
PRODID:-//FundArt - ECPv5.12.2//NONSGML v1.0//EN
CALSCALE:GREGORIAN
METHOD:PUBLISH
X-WR-CALNAME:FundArt
X-ORIGINAL-URL:https://fundart.com.br
X-WR-CALDESC:Eventos para FundArt
BEGIN:VTIMEZONE
TZID:America/Sao_Paulo
BEGIN:STANDARD
TZOFFSETFROM:-0300
TZOFFSETTO:-0300
TZNAME:-03
DTSTART:20210101T000000
END:STANDARD
END:VTIMEZONE
BEGIN:VEVENT
DTSTART;TZID=America/Sao_Paulo:20210615T180000
DTEND;TZID=America/Sao_Paulo:20210615T180000
DTSTAMP:20260420T130329
CREATED:20210610T184102Z
LAST-MODIFIED:20210610T184102Z
UID:33008-1623780000-1623780000@fundart.com.br
SUMMARY:Reunião do Setorial de Fotografia\, Cinema e Vídeo da Fundart
DESCRIPTION:
URL:https://fundart.com.br/evento/reuniao-do-setorial-de-fotografia-cinema-e-video-da-fundart/
LOCATION:Online
CATEGORIES:Grupo Setorial de Fotografia
ATTACH;FMTTYPE=image/jpeg:https://fundart.com.br/wp-content/uploads/2019/08/pexels-photo-93820.jpg
END:VEVENT
END:VCALENDAR