BEGIN:VCALENDAR
VERSION:2.0
PRODID:-//FundArt - ECPv5.12.2//NONSGML v1.0//EN
CALSCALE:GREGORIAN
METHOD:PUBLISH
X-WR-CALNAME:FundArt
X-ORIGINAL-URL:https://fundart.com.br
X-WR-CALDESC:Eventos para FundArt
BEGIN:VTIMEZONE
TZID:America/Sao_Paulo
BEGIN:STANDARD
TZOFFSETFROM:-0300
TZOFFSETTO:-0300
TZNAME:-03
DTSTART:20210101T000000
END:STANDARD
END:VTIMEZONE
BEGIN:VEVENT
DTSTART;TZID=America/Sao_Paulo:20210713T180000
DTEND;TZID=America/Sao_Paulo:20210713T190000
DTSTAMP:20260420T112623
CREATED:20210702T120509Z
LAST-MODIFIED:20210702T120509Z
UID:33147-1626199200-1626202800@fundart.com.br
SUMMARY:Reunião do Setorial de Artesanato da Fundart
DESCRIPTION:
URL:https://fundart.com.br/evento/reuniao-do-setorial-de-artesanato-da-fundart/
LOCATION:Online
CATEGORIES:Grupo Setorial de Artesanato
ATTACH;FMTTYPE=image/jpeg:https://fundart.com.br/wp-content/uploads/2018/01/ceramica-artesanato.jpg
END:VEVENT
END:VCALENDAR