BEGIN:VCALENDAR
VERSION:2.0
PRODID:-//FundArt - ECPv5.12.2//NONSGML v1.0//EN
CALSCALE:GREGORIAN
METHOD:PUBLISH
X-WR-CALNAME:FundArt
X-ORIGINAL-URL:https://fundart.com.br
X-WR-CALDESC:Eventos para FundArt
BEGIN:VTIMEZONE
TZID:America/Sao_Paulo
BEGIN:STANDARD
TZOFFSETFROM:-0200
TZOFFSETTO:-0300
TZNAME:-03
DTSTART:20190217T020000
END:STANDARD
END:VTIMEZONE
BEGIN:VEVENT
DTSTART;TZID=America/Sao_Paulo:20190902T154500
DTEND;TZID=America/Sao_Paulo:20190902T164500
DTSTAMP:20260421T201442
CREATED:20190410T155115Z
LAST-MODIFIED:20190815T171553Z
UID:27644-1567439100-1567442700@fundart.com.br
SUMMARY:Reunião Extraordinária do Setorial de Música
DESCRIPTION:
URL:https://fundart.com.br/evento/reuniao-do-grupo-setorial-de-musica-8/
LOCATION:Sede Administrativa da FundArt\, Praça Nóbrega\, 54 - Centro\, Ubatuba\, 11680-000
CATEGORIES:Grupo Setorial de Música
ATTACH;FMTTYPE=image/jpeg:https://fundart.com.br/wp-content/uploads/2017/10/música.jpg
ORGANIZER;CN="FundArt":MAILTO:contato@fundart.com
END:VEVENT
END:VCALENDAR