BEGIN:VCALENDAR
VERSION:2.0
PRODID:-//FundArt - ECPv5.12.2//NONSGML v1.0//EN
CALSCALE:GREGORIAN
METHOD:PUBLISH
X-WR-CALNAME:FundArt
X-ORIGINAL-URL:https://fundart.com.br
X-WR-CALDESC:Eventos para FundArt
BEGIN:VTIMEZONE
TZID:America/Sao_Paulo
BEGIN:STANDARD
TZOFFSETFROM:-0200
TZOFFSETTO:-0300
TZNAME:-03
DTSTART:20190217T020000
END:STANDARD
END:VTIMEZONE
BEGIN:VEVENT
DTSTART;TZID=America/Sao_Paulo:20190528T180000
DTEND;TZID=America/Sao_Paulo:20190528T180000
DTSTAMP:20260422T021308
CREATED:20190410T143957Z
LAST-MODIFIED:20190410T144010Z
UID:27615-1559066400-1559066400@fundart.com.br
SUMMARY:Reunião do grupo Setorial de Música
DESCRIPTION:
URL:https://fundart.com.br/evento/reuniao-do-grupo-setorial-de-musica-6/
LOCATION:Sede Administrativa da FundArt\, Praça Nóbrega\, 54 - Centro\, Ubatuba\, 11680-000
CATEGORIES:Cultura,FundArt
ATTACH;FMTTYPE=image/jpeg:https://fundart.com.br/wp-content/uploads/2017/10/música.jpg
END:VEVENT
END:VCALENDAR