BEGIN:VCALENDAR
VERSION:2.0
PRODID:-//FundArt - ECPv5.12.2//NONSGML v1.0//EN
CALSCALE:GREGORIAN
METHOD:PUBLISH
X-WR-CALNAME:FundArt
X-ORIGINAL-URL:https://fundart.com.br
X-WR-CALDESC:Eventos para FundArt
BEGIN:VTIMEZONE
TZID:America/Sao_Paulo
BEGIN:STANDARD
TZOFFSETFROM:-0200
TZOFFSETTO:-0300
TZNAME:-03
DTSTART:20190217T020000
END:STANDARD
END:VTIMEZONE
BEGIN:VEVENT
DTSTART;TZID=America/Sao_Paulo:20190806T180000
DTEND;TZID=America/Sao_Paulo:20190806T180000
DTSTAMP:20260421T212732
CREATED:20190410T145048Z
LAST-MODIFIED:20190410T160539Z
UID:27632-1565114400-1565114400@fundart.com.br
SUMMARY:Reunião do Grupo Setorial de Literatura
DESCRIPTION:
URL:https://fundart.com.br/evento/reuniao-do-grupo-setorial-de-literatura-9/
CATEGORIES:Cultura,FundArt
ATTACH;FMTTYPE=image/jpeg:https://fundart.com.br/wp-content/uploads/2017/08/literatura.jpg
END:VEVENT
END:VCALENDAR