BEGIN:VCALENDAR
VERSION:2.0
PRODID:-//FundArt - ECPv5.12.2//NONSGML v1.0//EN
CALSCALE:GREGORIAN
METHOD:PUBLISH
X-WR-CALNAME:FundArt
X-ORIGINAL-URL:https://fundart.com.br
X-WR-CALDESC:Eventos para FundArt
BEGIN:VTIMEZONE
TZID:America/Sao_Paulo
BEGIN:STANDARD
TZOFFSETFROM:-0200
TZOFFSETTO:-0300
TZNAME:-03
DTSTART:20190217T020000
END:STANDARD
END:VTIMEZONE
BEGIN:VEVENT
DTSTART;TZID=America/Sao_Paulo:20190215T180000
DTEND;TZID=America/Sao_Paulo:20190215T180000
DTSTAMP:20260422T065743
CREATED:20190214T162554Z
LAST-MODIFIED:20190227T120951Z
UID:26956-1550253600-1550253600@fundart.com.br
SUMMARY:Reunião do Grupo Setorial de Literatura
DESCRIPTION:Pauta:\na) Apresentação de proposta de atividades;\nb) Elaboração de Sarau;\nc) Outros assuntos.
URL:https://fundart.com.br/evento/reuniao-do-grupo-setorial-de-literatura-6/
LOCATION:Sede Administrativa da FundArt\, Praça Nóbrega\, 54 - Centro\, Ubatuba\, 11680-000
CATEGORIES:FundArt,Literatura
ATTACH;FMTTYPE=image/jpeg:https://fundart.com.br/wp-content/uploads/2017/08/literatura.jpg
END:VEVENT
END:VCALENDAR