BEGIN:VCALENDAR
VERSION:2.0
PRODID:-//FundArt - ECPv5.12.2//NONSGML v1.0//EN
CALSCALE:GREGORIAN
METHOD:PUBLISH
X-WR-CALNAME:FundArt
X-ORIGINAL-URL:https://fundart.com.br
X-WR-CALDESC:Eventos para FundArt
BEGIN:VTIMEZONE
TZID:America/Sao_Paulo
BEGIN:STANDARD
TZOFFSETFROM:-0200
TZOFFSETTO:-0300
TZNAME:-03
DTSTART:20190217T020000
END:STANDARD
END:VTIMEZONE
BEGIN:VEVENT
DTSTART;TZID=America/Sao_Paulo:20191217T180000
DTEND;TZID=America/Sao_Paulo:20191217T180000
DTSTAMP:20260419T220358
CREATED:20190410T161731Z
LAST-MODIFIED:20190410T161731Z
UID:27669-1576605600-1576605600@fundart.com.br
SUMMARY:Reunião do Grupo Setorial de Folclore e Tradições Populares
DESCRIPTION:
URL:https://fundart.com.br/evento/reuniao-do-grupo-setorial-de-folclore-e-tradicoes-populares-4/
LOCATION:Sede Administrativa da FundArt\, Praça Nóbrega\, 54 - Centro\, Ubatuba\, 11680-000
ATTACH;FMTTYPE=image/jpeg:https://fundart.com.br/wp-content/uploads/2013/05/Folclore-Folia-do-Divino-111.jpg
END:VEVENT
END:VCALENDAR