BEGIN:VCALENDAR
VERSION:2.0
PRODID:-//FundArt - ECPv5.12.2//NONSGML v1.0//EN
CALSCALE:GREGORIAN
METHOD:PUBLISH
X-WR-CALNAME:FundArt
X-ORIGINAL-URL:https://fundart.com.br
X-WR-CALDESC:Eventos para FundArt
BEGIN:VTIMEZONE
TZID:America/Sao_Paulo
BEGIN:STANDARD
TZOFFSETFROM:-0200
TZOFFSETTO:-0300
TZNAME:-03
DTSTART:20180218T020000
END:STANDARD
BEGIN:DAYLIGHT
TZOFFSETFROM:-0300
TZOFFSETTO:-0200
TZNAME:-02
DTSTART:20181104T030000
END:DAYLIGHT
END:VTIMEZONE
BEGIN:VEVENT
DTSTART;TZID=America/Sao_Paulo:20181002T180000
DTEND;TZID=America/Sao_Paulo:20181002T180000
DTSTAMP:20260424T110241
CREATED:20180530T161241Z
LAST-MODIFIED:20180530T161241Z
UID:24380-1538503200-1538503200@fundart.com.br
SUMMARY:Reunião do grupo setorial de artesanato
DESCRIPTION:Reunião do grupo setorial de artesanato\, às18h\, na sede administrativa da FundArt
URL:https://fundart.com.br/evento/reuniao-do-grupo-setorial-de-artesanato-5/
LOCATION:Sede Administrativa da FundArt\, Praça Nóbrega\, 54 - Centro\, Ubatuba\, 11680-000
CATEGORIES:FundArt,Grupo Setorial de Artesanato
ATTACH;FMTTYPE=image/jpeg:https://fundart.com.br/wp-content/uploads/2018/01/ceramica-artesanato.jpg
END:VEVENT
END:VCALENDAR