BEGIN:VCALENDAR
VERSION:2.0
PRODID:-//FundArt - ECPv5.12.2//NONSGML v1.0//EN
CALSCALE:GREGORIAN
METHOD:PUBLISH
X-WR-CALNAME:FundArt
X-ORIGINAL-URL:https://fundart.com.br
X-WR-CALDESC:Eventos para FundArt
BEGIN:VTIMEZONE
TZID:America/Sao_Paulo
BEGIN:STANDARD
TZOFFSETFROM:-0200
TZOFFSETTO:-0300
TZNAME:-03
DTSTART:20180218T020000
END:STANDARD
BEGIN:DAYLIGHT
TZOFFSETFROM:-0300
TZOFFSETTO:-0200
TZNAME:-02
DTSTART:20181104T030000
END:DAYLIGHT
END:VTIMEZONE
BEGIN:VEVENT
DTSTART;TZID=America/Sao_Paulo:20181214T180000
DTEND;TZID=America/Sao_Paulo:20181214T180000
DTSTAMP:20260422T231018
CREATED:20180530T162320Z
LAST-MODIFIED:20180530T162333Z
UID:24394-1544810400-1544810400@fundart.com.br
SUMMARY:Reunião do grupo setorial de artes plásticas e visuais
DESCRIPTION:Reunião do grupo setorial de artes plásticas e visuais\, às18h\, na sede administrativa da FundArt
URL:https://fundart.com.br/evento/reuniao-do-grupo-setorial-de-artes-plasticas-e-visuais-9/
LOCATION:Sede Administrativa da FundArt\, Praça Nóbrega\, 54 - Centro\, Ubatuba\, 11680-000
CATEGORIES:FundArt,Grupo Setorial de Artes Plásticas e Visuais
ATTACH;FMTTYPE=image/jpeg:https://fundart.com.br/wp-content/uploads/2013/05/Artes-Plasticas-3.jpg
END:VEVENT
END:VCALENDAR