BEGIN:VCALENDAR
VERSION:2.0
PRODID:-//FundArt - ECPv5.12.2//NONSGML v1.0//EN
CALSCALE:GREGORIAN
METHOD:PUBLISH
X-WR-CALNAME:FundArt
X-ORIGINAL-URL:https://fundart.com.br
X-WR-CALDESC:Eventos para FundArt
BEGIN:VTIMEZONE
TZID:America/Sao_Paulo
BEGIN:STANDARD
TZOFFSETFROM:-0200
TZOFFSETTO:-0300
TZNAME:-03
DTSTART:20190217T020000
END:STANDARD
END:VTIMEZONE
BEGIN:VEVENT
DTSTART;TZID=America/Sao_Paulo:20190902T174500
DTEND;TZID=America/Sao_Paulo:20190902T184500
DTSTAMP:20260421T212609
CREATED:20190410T145529Z
LAST-MODIFIED:20190815T181358Z
UID:27638-1567446300-1567449900@fundart.com.br
SUMMARY:Reunião Extraordinária do Setorial de Artes Plásticas e Visuais
DESCRIPTION:
URL:https://fundart.com.br/evento/reuniao-do-grupo-setorial-de-artes-plasticas-e-visuais-13/
LOCATION:Sede Administrativa da FundArt\, Praça Nóbrega\, 54 - Centro\, Ubatuba\, 11680-000
CATEGORIES:Artes Plásticas
ATTACH;FMTTYPE=image/jpeg:https://fundart.com.br/wp-content/uploads/2013/05/Artes-Plasticas-3.jpg
ORGANIZER;CN="FundArt":MAILTO:contato@fundart.com
END:VEVENT
END:VCALENDAR